{"text_format":"3","workbook":"xlsx","n_sheets":4,"sheets":["Data","SigmoidTest","Model_Gen","Summary"],"not_rendered":{"charts":3,"images":1,"macros":1,"defined_names":43},"read":"whole","date_system":"1900"}

{"sheet":"Data","index":0,"n_rows":24,"n_cols":6,"rows_kept":24}
["Age (d)","Weight (g)",null,null,"data:","Rhodesian Ridgeback"]
[0,410,null,null,"source:","Elke Schläger"]
[2,435,null,null,"no of data:",{"$f":"COUNT(A:A)","v":23}]
[3,736,null,null,"max weight",{"$f":"MAX(B:B)","v":31800}]
[8,736,null,null,"min weight",{"$f":"MIN(B:B)","v":410}]
[15,1126]
[61,5900]
[68,6900]
[75,7900]
[83,9400]
[89,10700]
[96,11700]
[103,13200]
[117,15000]
[124,16600]
[141,18500]
[169,21500]
[178,22400]
[192,24500]
[215,25500]
[288,30000]
[389,31000]
[420,31500]
[451,31800]

{"sheet":"SigmoidTest","index":1,"n_rows":200,"n_cols":22,"rows_kept":200}
[{"$f":"Data!A1","v":"Age (d)"},{"$f":"Data!B1","v":"Weight (g)"},"dm/dt","dm/dt num","m^a","m^b","dm/dt model","m","dm/dt num","model","Min",{"$f":"MIN(D3:D200)","v":{"v":12.903225806451612,"d":"12.90"}},null,"a","b","p","q","m_0","m_max","SS","mobs","Comment:"]
[{"$f":"Data!A2","v":0},{"$f":"Data!B2","v":410},{"$nulls":8},"max",{"$f":"MAX(D3:D200)","v":{"v":250.83333333333334,"d":"250.83"}},"Start value",0.99,1,{"$f":"INDEX(LINEST(INDIRECT(\"D3:D\"&O4),INDIRECT(\"E3:F\"&O4),FALSE,TRUE),1,2)","v":1.7925789758188662},{"$f":"IF(Q4>0,Q4,Q5)","v":1.6163483920158477},{"$f":"B2","v":410},{"$f":"MAX(S4:S5)","v":{"v":31800,"d":"31,800.00"}},{"$f":"INDEX(LINEST(INDIRECT(\"D3:D\"&O4),INDIRECT(\"E3:F\"&O4),FALSE,TRUE),5,2)","v":81088.78781059186},{"$f":"Data!F4","v":31800},"adapt RGP-Formula in P2, Q2, T2"]
[{"$f":"Data!A3","v":2},{"$f":"Data!B3","v":435},{"$f":"IF(A3=\"\",\"\",(B3-B2)/(A3-A2))","v":12.5},{"$f":"IF(A4=\"\",\"\",C3*(A3-A4)/(A2-A4)+C4*(A2-A3)/(A2-A4))","v":204.83333333333331},{"$f":"IF(A4=\"\",\"\",B3^$N$2)","v":409.35902010834684},{"$f":"IF(A4=\"\",\"\",B3^$O$2)","v":435},{"$f":"IF(D3=\"\",\"\",E3*$P$2-F3*$Q$4)","v":30.696822481141226},{"$f":"B3","v":435},{"$f":"D3","v":204.83333333333331},{"$f":"G3","v":30.696822481141226},"SS",{"$f":"T2","v":{"v":81088.78781059186,"d":"81,088.79"}},{"$nulls":4},"initial values for Solver"]
[{"$f":"Data!A4","v":3},{"$f":"Data!B4","v":736},{"$f":"IF(A4=\"\",\"\",(B4-B3)/(A4-A3))","v":301},{"$f":"IF(A5=\"\",\"\",C4*(A4-A5)/(A3-A5)+C5*(A3-A4)/(A3-A5))","v":250.83333333333334},{"$f":"IF(A5=\"\",\"\",B4^$N$2)","v":688.9838407472391},{"$f":"IF(A5=\"\",\"\",B4^$O$2)","v":736},45.42553107877097,{"$f":"B4","v":736},{"$f":"D4","v":250.83333333333334},{"$f":"G4","v":45.42553107877097},{"$nulls":4},23,"linear mod",{"$f":"-INDEX(LINEST(INDIRECT(\"D3:D\"&O4),INDIRECT(\"E3:F\"&O4),FALSE,TRUE),1,1)","v":1.6163483920158477},"m_max Formel",{"$f":"(P2/Q2)^(1/(1-N2))","v":31212.76913966689}]
[{"$f":"Data!A5","v":8},{"$f":"Data!B5","v":736},0,23.21428571428571,688.9838407472391,736,45.42553107877097,736,23.21428571428571,45.42553107877097,{"$nulls":5},"from max",{"$f":"P2/U2^(1-N2)","v":1.616047148730042},"min m_max",{"$f":"U2","v":31800}]
[{"$f":"Data!A6","v":15},{"$f":"Data!B6","v":1126},55.714285714285715,62.06293214578695,1049.598029296837,1126,61.47907096857989,1126,62.06293214578695,61.47907096857989]
[{"$f":"Data!A7","v":61},{"$f":"Data!B7","v":5900},103.78260869565217,137.69635532637994,5409.330184759537,5900,160.19604956882722,5900,137.69635532637994,160.19604956882722]
[{"$f":"Data!A8","v":68},{"$f":"Data!B8","v":6900},142.85714285714286,142.85714285714286,6316.268740805032,6900,169.60664547965462,6900,142.85714285714286,169.60664547965462]
[{"$f":"Data!A9","v":75},{"$f":"Data!B9","v":7900},142.85714285714286,163.6904761904762,7221.889188166003,7900,176.65442747475936,7900,163.6904761904762,176.65442747475936]
[{"$f":"Data!A10","v":83},{"$f":"Data!B10","v":9400},187.5,204.16666666666669,8578.208049034694,9400,183.44051395079805,9400,204.16666666666669,183.44051395079805]
[{"$f":"Data!A11","v":89},{"$f":"Data!B11","v":10700},216.66666666666666,182.60073260073258,9751.915734155033,10700,186.1513244339476,10700,182.60073260073258,186.1513244339476]
[{"$f":"Data!A12","v":96},{"$f":"Data!B12","v":11700},142.85714285714286,178.57142857142856,10653.786837977003,11700,186.47811202791127,11700,178.57142857142856,186.47811202791127]
[{"$f":"Data!A13","v":103},{"$f":"Data!B13","v":13200},214.28571428571428,185.71428571428572,12005.166616550756,13200,184.41050342220842,13200,185.71428571428572,184.41050342220842]
[{"$f":"Data!A14","v":117},{"$f":"Data!B14","v":15000},128.57142857142858,195.23809523809524,13624.806604744354,15000,178.31598902504265,15000,195.23809523809524,178.31598902504265]
[{"$f":"Data!A15","v":124},{"$f":"Data!B15","v":16600},228.57142857142858,194.50280112044817,15062.845000996696,16600,169.95595734191375,16600,194.50280112044817,169.95595734191375]
[{"$f":"Data!A16","v":141},{"$f":"Data!B16","v":18500},111.76470588235294,110.01867413632121,16768.72378680559,18500,156.81645924823897,18500,110.01867413632121,156.81645924823897]
[{"$f":"Data!A17","v":169},{"$f":"Data!B17","v":21500},107.14285714285714,101.73745173745174,19458.711328196136,21500,129.7863951120744,21500,101.73745173745174,129.7863951120744]
[{"$f":"Data!A18","v":178},{"$f":"Data!B18","v":22400},100,119.56521739130434,20264.95007525392,22400,120.31946976413747,22400,119.56521739130434,120.31946976413747]
[{"$f":"Data!A19","v":192},{"$f":"Data!B19","v":24500},150,109.69447708578143,22144.935695668046,24500,96.01054452700191,24500,109.69447708578143,96.01054452700191]
[{"$f":"Data!A20","v":215},{"$f":"Data!B20","v":25500},43.47826086956522,47.83042981933691,23039.591712358804,25500,83.40371862086613,25500,47.83042981933691,83.40371862086613]
[{"$f":"Data!A21","v":288},{"$f":"Data!B21","v":30000},61.64383561643836,39.93563031314941,27061.386381905173,30000,19.220524238757207,30000,39.93563031314941,19.220524238757207]
[{"$f":"Data!A22","v":389},{"$f":"Data!B22","v":31000},9.900990099009901,14.666385993438054,27954.264937743716,31000,3.427459378595813,31000,14.666385993438054,3.427459378595813]
[{"$f":"Data!A23","v":420},{"$f":"Data!B23","v":31500},16.129032258064516,12.903225806451612,28400.59562286845,31500,-4.663734211899282,31500,12.903225806451612,-4.663734211899282]
[{"$f":"Data!A24","v":451},{"$f":"Data!B24","v":31800},9.67741935483871,"","","","",31800,"",""]
{"$rows_empty":32}
[{"$f":"IF(Data!A57>A56,Data!A57,\"\")","v":""},{"$f":"IF(A57=\"\",\"\",Data!B57)","v":""},"","","","",{"$f":"IF(D57=\"\",\"\",E57*$P$2-F57*$Q$4)","v":""},"","",""]
[{"$f":"IF(Data!A58>A57,Data!A58,\"\")","v":""},{"$f":"IF(A58=\"\",\"\",Data!B58)","v":""},"","","","","","","",""]
[{"$f":"IF(Data!A59>A58,Data!A59,\"\")","v":""},{"$f":"IF(A59=\"\",\"\",Data!B59)","v":""},"","","","","","","",""]
[{"$f":"IF(Data!A60>A59,Data!A60,\"\")","v":""},{"$f":"IF(A60=\"\",\"\",Data!B60)","v":""},"","","","","","","",""]
[{"$f":"IF(Data!A61>A60,Data!A61,\"\")","v":""},{"$f":"IF(A61=\"\",\"\",Data!B61)","v":""},"","","","",""," ","",""]
[{"$f":"IF(Data!A62>A61,Data!A62,\"\")","v":""},{"$f":"IF(A62=\"\",\"\",Data!B62)","v":""},"","","","","","","",""]
[{"$f":"IF(Data!A63>A62,Data!A63,\"\")","v":""},{"$f":"IF(A63=\"\",\"\",Data!B63)","v":""},"","","","","","","",""]
[{"$f":"IF(Data!A64>A63,Data!A64,\"\")","v":""},{"$f":"IF(A64=\"\",\"\",Data!B64)","v":""},"","","","","","","",""]
[{"$f":"IF(Data!A65>A64,Data!A65,\"\")","v":""},{"$f":"IF(A65=\"\",\"\",Data!B65)","v":""},"","","","","","","",""]
[{"$f":"IF(Data!A66>A65,Data!A66,\"\")","v":""},{"$f":"IF(A66=\"\",\"\",Data!B66)","v":""},"","","","","","","",""]
[{"$f":"IF(Data!A67>A66,Data!A67,\"\")","v":""},{"$f":"IF(A67=\"\",\"\",Data!B67)","v":""},"","","","",{"$f":"IF(D67=\"\",\"\",E67*$P$2-F67*$Q$4)","v":""},"","",""]
[{"$f":"IF(Data!A68>A67,Data!A68,\"\")","v":""},{"$f":"IF(A68=\"\",\"\",Data!B68)","v":""},{"$f":"IF(A68=\"\",\"\",(B68-B67)/(A68-A67))","v":""},{"$f":"IF(A69=\"\",\"\",C68*(A68-A69)/(A67-A69)+C69*(A67-A68)/(A67-A69))","v":""},{"$f":"IF(A69=\"\",\"\",B68^$N$2)","v":""},{"$f":"IF(A69=\"\",\"\",B68^$O$2)","v":""},"",{"$f":"B68","v":""},{"$f":"D68","v":""},{"$f":"G68","v":""}]
[{"$f":"IF(Data!A69>A68,Data!A69,\"\")","v":""},{"$f":"IF(A69=\"\",\"\",Data!B69)","v":""},"","","","","","","",""]
[{"$f":"IF(Data!A70>A69,Data!A70,\"\")","v":""},{"$f":"IF(A70=\"\",\"\",Data!B70)","v":""},"","","","","","","",""]
[{"$f":"IF(Data!A71>A70,Data!A71,\"\")","v":""},{"$f":"IF(A71=\"\",\"\",Data!B71)","v":""},"","","","","","","",""]
[{"$f":"IF(Data!A72>A71,Data!A72,\"\")","v":""},{"$f":"IF(A72=\"\",\"\",Data!B72)","v":""},"","","","","","","",""]
[{"$f":"IF(Data!A73>A72,Data!A73,\"\")","v":""},{"$f":"IF(A73=\"\",\"\",Data!B73)","v":""},"","","","","","","",""]
[{"$f":"IF(Data!A74>A73,Data!A74,\"\")","v":""},{"$f":"IF(A74=\"\",\"\",Data!B74)","v":""},"","","","","","","",""]
[{"$f":"IF(Data!A75>A74,Data!A75,\"\")","v":""},{"$f":"IF(A75=\"\",\"\",Data!B75)","v":""},"","","","","","","",""]
[{"$f":"IF(Data!A76>A75,Data!A76,\"\")","v":""},{"$f":"IF(A76=\"\",\"\",Data!B76)","v":""},"","","","","","","",""]
[{"$f":"IF(Data!A77>A76,Data!A77,\"\")","v":""},{"$f":"IF(A77=\"\",\"\",Data!B77)","v":""},"","","","","","","",""]
[{"$f":"IF(Data!A78>A77,Data!A78,\"\")","v":""},{"$f":"IF(A78=\"\",\"\",Data!B78)","v":""},"","","","","","","",""]
[{"$f":"IF(Data!A79>A78,Data!A79,\"\")","v":""},{"$f":"IF(A79=\"\",\"\",Data!B79)","v":""},"","","","","","","",""]
[{"$f":"IF(Data!A80>A79,Data!A80,\"\")","v":""},{"$f":"IF(A80=\"\",\"\",Data!B80)","v":""},"","","","","","","",""]
[{"$f":"IF(Data!A81>A80,Data!A81,\"\")","v":""},{"$f":"IF(A81=\"\",\"\",Data!B81)","v":""},"","","","","","","",""]
[{"$f":"IF(Data!A82>A81,Data!A82,\"\")","v":""},{"$f":"IF(A82=\"\",\"\",Data!B82)","v":""},"","","","","","","",""]
[{"$f":"IF(Data!A83>A82,Data!A83,\"\")","v":""},{"$f":"IF(A83=\"\",\"\",Data!B83)","v":""},"","","","","","","",""]
[{"$f":"IF(Data!A84>A83,Data!A84,\"\")","v":""},{"$f":"IF(A84=\"\",\"\",Data!B84)","v":""},"","","","","","","",""]
[{"$f":"IF(Data!A85>A84,Data!A85,\"\")","v":""},{"$f":"IF(A85=\"\",\"\",Data!B85)","v":""},"","","","","","","",""]
[{"$f":"IF(Data!A86>A85,Data!A86,\"\")","v":""},{"$f":"IF(A86=\"\",\"\",Data!B86)","v":""},"","","","","","","",""]
[{"$f":"IF(Data!A87>A86,Data!A87,\"\")","v":""},{"$f":"IF(A87=\"\",\"\",Data!B87)","v":""},"","","","","","","",""]
[{"$f":"IF(Data!A88>A87,Data!A88,\"\")","v":""},{"$f":"IF(A88=\"\",\"\",Data!B88)","v":""},"","","","","","","",""]
[{"$f":"IF(Data!A89>A88,Data!A89,\"\")","v":""},{"$f":"IF(A89=\"\",\"\",Data!B89)","v":""},"","","","","","","",""]
[{"$f":"IF(Data!A90>A89,Data!A90,\"\")","v":""},{"$f":"IF(A90=\"\",\"\",Data!B90)","v":""},"","","","","","","",""]
[{"$f":"IF(Data!A91>A90,Data!A91,\"\")","v":""},{"$f":"IF(A91=\"\",\"\",Data!B91)","v":""},"","","","","","","",""]
[{"$f":"IF(Data!A92>A91,Data!A92,\"\")","v":""},{"$f":"IF(A92=\"\",\"\",Data!B92)","v":""},"","","","","","","",""]
[{"$f":"IF(Data!A93>A92,Data!A93,\"\")","v":""},{"$f":"IF(A93=\"\",\"\",Data!B93)","v":""},"","","","","","","",""]
[{"$f":"IF(Data!A94>A93,Data!A94,\"\")","v":""},{"$f":"IF(A94=\"\",\"\",Data!B94)","v":""},"","","","","","","",""]
[{"$f":"IF(Data!A95>A94,Data!A95,\"\")","v":""},{"$f":"IF(A95=\"\",\"\",Data!B95)","v":""},"","","","","","","",""]
[{"$f":"IF(Data!A96>A95,Data!A96,\"\")","v":""},{"$f":"IF(A96=\"\",\"\",Data!B96)","v":""},"","","","","","","",""]
[{"$f":"IF(Data!A97>A96,Data!A97,\"\")","v":""},{"$f":"IF(A97=\"\",\"\",Data!B97)","v":""},"","","","","","","",""]
[{"$f":"IF(Data!A98>A97,Data!A98,\"\")","v":""},{"$f":"IF(A98=\"\",\"\",Data!B98)","v":""},"","","","","","","",""]
[{"$f":"IF(Data!A99>A98,Data!A99,\"\")","v":""},{"$f":"IF(A99=\"\",\"\",Data!B99)","v":""},"","","","",{"$f":"IF(D99=\"\",\"\",E99*$P$2-F99*$Q$4)","v":""},"","",""]
[{"$f":"IF(Data!A100>A99,Data!A100,\"\")","v":""},{"$f":"IF(A100=\"\",\"\",Data!B100)","v":""},"","","","","","","",""]
[{"$f":"IF(Data!A101>A100,Data!A101,\"\")","v":""},{"$f":"IF(A101=\"\",\"\",Data!B101)","v":""},"","","","","","","",""]
[{"$f":"IF(Data!A102>A101,Data!A102,\"\")","v":""},{"$f":"IF(A102=\"\",\"\",Data!B102)","v":""},"","","","","","","",""]
[{"$f":"IF(Data!A103>A102,Data!A103,\"\")","v":""},{"$f":"IF(A103=\"\",\"\",Data!B103)","v":""},"","","","","","","",""]
[{"$f":"IF(Data!A104>A103,Data!A104,\"\")","v":""},{"$f":"IF(A104=\"\",\"\",Data!B104)","v":""},"","","","","","","",""]
[{"$f":"IF(Data!A105>A104,Data!A105,\"\")","v":""},{"$f":"IF(A105=\"\",\"\",Data!B105)","v":""},"","","","","","","",""]
[{"$f":"IF(Data!A106>A105,Data!A106,\"\")","v":""},{"$f":"IF(A106=\"\",\"\",Data!B106)","v":""},"","","","","","","",""]
[{"$f":"IF(Data!A107>A106,Data!A107,\"\")","v":""},{"$f":"IF(A107=\"\",\"\",Data!B107)","v":""},"","","","","","","",""]
[{"$f":"IF(Data!A108>A107,Data!A108,\"\")","v":""},{"$f":"IF(A108=\"\",\"\",Data!B108)","v":""},"","","","","","","",""]
[{"$f":"IF(Data!A109>A108,Data!A109,\"\")","v":""},{"$f":"IF(A109=\"\",\"\",Data!B109)","v":""},"","","","","","","",""]
[{"$f":"IF(Data!A110>A109,Data!A110,\"\")","v":""},{"$f":"IF(A110=\"\",\"\",Data!B110)","v":""},"","","","","","","",""]
[{"$f":"IF(Data!A111>A110,Data!A111,\"\")","v":""},{"$f":"IF(A111=\"\",\"\",Data!B111)","v":""},"","","","","","","",""]
[{"$f":"IF(Data!A112>A111,Data!A112,\"\")","v":""},{"$f":"IF(A112=\"\",\"\",Data!B112)","v":""},"","","","","","","",""]
[{"$f":"IF(Data!A113>A112,Data!A113,\"\")","v":""},{"$f":"IF(A113=\"\",\"\",Data!B113)","v":""},"","","","","","","",""]
[{"$f":"IF(Data!A114>A113,Data!A114,\"\")","v":""},{"$f":"IF(A114=\"\",\"\",Data!B114)","v":""},"","","","","","","",""]
[{"$f":"IF(Data!A115>A114,Data!A115,\"\")","v":""},{"$f":"IF(A115=\"\",\"\",Data!B115)","v":""},"","","","","","","",""]
[{"$f":"IF(Data!A116>A115,Data!A116,\"\")","v":""},{"$f":"IF(A116=\"\",\"\",Data!B116)","v":""},"","","","","","","",""]
[{"$f":"IF(Data!A117>A116,Data!A117,\"\")","v":""},{"$f":"IF(A117=\"\",\"\",Data!B117)","v":""},"","","","","","","",""]
[{"$f":"IF(Data!A118>A117,Data!A118,\"\")","v":""},{"$f":"IF(A118=\"\",\"\",Data!B118)","v":""},"","","","","","","",""]
[{"$f":"IF(Data!A119>A118,Data!A119,\"\")","v":""},{"$f":"IF(A119=\"\",\"\",Data!B119)","v":""},"","","","","","","",""]
[{"$f":"IF(Data!A120>A119,Data!A120,\"\")","v":""},{"$f":"IF(A120=\"\",\"\",Data!B120)","v":""},"","","","","","","",""]
[{"$f":"IF(Data!A121>A120,Data!A121,\"\")","v":""},{"$f":"IF(A121=\"\",\"\",Data!B121)","v":""},"","","","","","","",""]
[{"$f":"IF(Data!A122>A121,Data!A122,\"\")","v":""},{"$f":"IF(A122=\"\",\"\",Data!B122)","v":""},"","","","","","","",""]
[{"$f":"IF(Data!A123>A122,Data!A123,\"\")","v":""},{"$f":"IF(A123=\"\",\"\",Data!B123)","v":""},"","","","","","","",""]
[{"$f":"IF(Data!A124>A123,Data!A124,\"\")","v":""},{"$f":"IF(A124=\"\",\"\",Data!B124)","v":""},"","","","","","","",""]
[{"$f":"IF(Data!A125>A124,Data!A125,\"\")","v":""},{"$f":"IF(A125=\"\",\"\",Data!B125)","v":""},"","","","","","","",""]
[{"$f":"IF(Data!A126>A125,Data!A126,\"\")","v":""},{"$f":"IF(A126=\"\",\"\",Data!B126)","v":""},"","","","","","","",""]
[{"$f":"IF(Data!A127>A126,Data!A127,\"\")","v":""},{"$f":"IF(A127=\"\",\"\",Data!B127)","v":""},"","","","","","","",""]
[{"$f":"IF(Data!A128>A127,Data!A128,\"\")","v":""},{"$f":"IF(A128=\"\",\"\",Data!B128)","v":""},"","","","","","","",""]
[{"$f":"IF(Data!A129>A128,Data!A129,\"\")","v":""},{"$f":"IF(A129=\"\",\"\",Data!B129)","v":""},"","","","","","","",""]
[{"$f":"IF(Data!A130>A129,Data!A130,\"\")","v":""},{"$f":"IF(A130=\"\",\"\",Data!B130)","v":""},"","","","","","","",""]
[{"$f":"IF(Data!A131>A130,Data!A131,\"\")","v":""},{"$f":"IF(A131=\"\",\"\",Data!B131)","v":""},"","","","",{"$f":"IF(D131=\"\",\"\",E131*$P$2-F131*$Q$4)","v":""},"","",""]
[{"$f":"IF(Data!A132>A131,Data!A132,\"\")","v":""},{"$f":"IF(A132=\"\",\"\",Data!B132)","v":""},{"$f":"IF(A132=\"\",\"\",(B132-B131)/(A132-A131))","v":""},{"$f":"IF(A133=\"\",\"\",C132*(A132-A133)/(A131-A133)+C133*(A131-A132)/(A131-A133))","v":""},{"$f":"IF(A133=\"\",\"\",B132^$N$2)","v":""},{"$f":"IF(A133=\"\",\"\",B132^$O$2)","v":""},"",{"$f":"B132","v":""},{"$f":"D132","v":""},{"$f":"G132","v":""}]
[{"$f":"IF(Data!A133>A132,Data!A133,\"\")","v":""},{"$f":"IF(A133=\"\",\"\",Data!B133)","v":""},"","","","","","","",""]
[{"$f":"IF(Data!A134>A133,Data!A134,\"\")","v":""},{"$f":"IF(A134=\"\",\"\",Data!B134)","v":""},"","","","","","","",""]
[{"$f":"IF(Data!A135>A134,Data!A135,\"\")","v":""},{"$f":"IF(A135=\"\",\"\",Data!B135)","v":""},"","","","","","","",""]
[{"$f":"IF(Data!A136>A135,Data!A136,\"\")","v":""},{"$f":"IF(A136=\"\",\"\",Data!B136)","v":""},"","","","","","","",""]
[{"$f":"IF(Data!A137>A136,Data!A137,\"\")","v":""},{"$f":"IF(A137=\"\",\"\",Data!B137)","v":""},"","","","","","","",""]
[{"$f":"IF(Data!A138>A137,Data!A138,\"\")","v":""},{"$f":"IF(A138=\"\",\"\",Data!B138)","v":""},"","","","","","","",""]
[{"$f":"IF(Data!A139>A138,Data!A139,\"\")","v":""},{"$f":"IF(A139=\"\",\"\",Data!B139)","v":""},"","","","","","","",""]
[{"$f":"IF(Data!A140>A139,Data!A140,\"\")","v":""},{"$f":"IF(A140=\"\",\"\",Data!B140)","v":""},"","","","","","","",""]
[{"$f":"IF(Data!A141>A140,Data!A141,\"\")","v":""},{"$f":"IF(A141=\"\",\"\",Data!B141)","v":""},"","","","","","","",""]
[{"$f":"IF(Data!A142>A141,Data!A142,\"\")","v":""},{"$f":"IF(A142=\"\",\"\",Data!B142)","v":""},"","","","","","","",""]
[{"$f":"IF(Data!A143>A142,Data!A143,\"\")","v":""},{"$f":"IF(A143=\"\",\"\",Data!B143)","v":""},"","","","","","","",""]
[{"$f":"IF(Data!A144>A143,Data!A144,\"\")","v":""},{"$f":"IF(A144=\"\",\"\",Data!B144)","v":""},"","","","","","","",""]
[{"$f":"IF(Data!A145>A144,Data!A145,\"\")","v":""},{"$f":"IF(A145=\"\",\"\",Data!B145)","v":""},"","","","","","","",""]
[{"$f":"IF(Data!A146>A145,Data!A146,\"\")","v":""},{"$f":"IF(A146=\"\",\"\",Data!B146)","v":""},"","","","","","","",""]
[{"$f":"IF(Data!A147>A146,Data!A147,\"\")","v":""},{"$f":"IF(A147=\"\",\"\",Data!B147)","v":""},"","","","","","","",""]
[{"$f":"IF(Data!A148>A147,Data!A148,\"\")","v":""},{"$f":"IF(A148=\"\",\"\",Data!B148)","v":""},"","","","","","","",""]
[{"$f":"IF(Data!A149>A148,Data!A149,\"\")","v":""},{"$f":"IF(A149=\"\",\"\",Data!B149)","v":""},"","","","","","","",""]
[{"$f":"IF(Data!A150>A149,Data!A150,\"\")","v":""},{"$f":"IF(A150=\"\",\"\",Data!B150)","v":""},"","","","","","","",""]
[{"$f":"IF(Data!A151>A150,Data!A151,\"\")","v":""},{"$f":"IF(A151=\"\",\"\",Data!B151)","v":""},"","","","","","","",""]
[{"$f":"IF(Data!A152>A151,Data!A152,\"\")","v":""},{"$f":"IF(A152=\"\",\"\",Data!B152)","v":""},"","","","","","","",""]
[{"$f":"IF(Data!A153>A152,Data!A153,\"\")","v":""},{"$f":"IF(A153=\"\",\"\",Data!B153)","v":""},"","","","","","","",""]
[{"$f":"IF(Data!A154>A153,Data!A154,\"\")","v":""},{"$f":"IF(A154=\"\",\"\",Data!B154)","v":""},"","","","","","","",""]
[{"$f":"IF(Data!A155>A154,Data!A155,\"\")","v":""},{"$f":"IF(A155=\"\",\"\",Data!B155)","v":""},"","","","","","","",""]
[{"$f":"IF(Data!A156>A155,Data!A156,\"\")","v":""},{"$f":"IF(A156=\"\",\"\",Data!B156)","v":""},"","","","","","","",""]
[{"$f":"IF(Data!A157>A156,Data!A157,\"\")","v":""},{"$f":"IF(A157=\"\",\"\",Data!B157)","v":""},"","","","","","","",""]
[{"$f":"IF(Data!A158>A157,Data!A158,\"\")","v":""},{"$f":"IF(A158=\"\",\"\",Data!B158)","v":""},"","","","","","","",""]
[{"$f":"IF(Data!A159>A158,Data!A159,\"\")","v":""},{"$f":"IF(A159=\"\",\"\",Data!B159)","v":""},"","","","","","","",""]
[{"$f":"IF(Data!A160>A159,Data!A160,\"\")","v":""},{"$f":"IF(A160=\"\",\"\",Data!B160)","v":""},"","","","","","","",""]
[{"$f":"IF(Data!A161>A160,Data!A161,\"\")","v":""},{"$f":"IF(A161=\"\",\"\",Data!B161)","v":""},"","","","","","","",""]
[{"$f":"IF(Data!A162>A161,Data!A162,\"\")","v":""},{"$f":"IF(A162=\"\",\"\",Data!B162)","v":""},"","","","","","","",""]
[{"$f":"IF(Data!A163>A162,Data!A163,\"\")","v":""},{"$f":"IF(A163=\"\",\"\",Data!B163)","v":""},"","","","",{"$f":"IF(D163=\"\",\"\",E163*$P$2-F163*$Q$4)","v":""},"","",""]
[{"$f":"IF(Data!A164>A163,Data!A164,\"\")","v":""},{"$f":"IF(A164=\"\",\"\",Data!B164)","v":""},"","","","","","","",""]
[{"$f":"IF(Data!A165>A164,Data!A165,\"\")","v":""},{"$f":"IF(A165=\"\",\"\",Data!B165)","v":""},"","","","","","","",""]
[{"$f":"IF(Data!A166>A165,Data!A166,\"\")","v":""},{"$f":"IF(A166=\"\",\"\",Data!B166)","v":""},"","","","","","","",""]
[{"$f":"IF(Data!A167>A166,Data!A167,\"\")","v":""},{"$f":"IF(A167=\"\",\"\",Data!B167)","v":""},"","","","","","","",""]
[{"$f":"IF(Data!A168>A167,Data!A168,\"\")","v":""},{"$f":"IF(A168=\"\",\"\",Data!B168)","v":""},"","","","","","","",""]
[{"$f":"IF(Data!A169>A168,Data!A169,\"\")","v":""},{"$f":"IF(A169=\"\",\"\",Data!B169)","v":""},"","","","","","","",""]
[{"$f":"IF(Data!A170>A169,Data!A170,\"\")","v":""},{"$f":"IF(A170=\"\",\"\",Data!B170)","v":""},"","","","","","","",""]
[{"$f":"IF(Data!A171>A170,Data!A171,\"\")","v":""},{"$f":"IF(A171=\"\",\"\",Data!B171)","v":""},"","","","","","","",""]
[{"$f":"IF(Data!A172>A171,Data!A172,\"\")","v":""},{"$f":"IF(A172=\"\",\"\",Data!B172)","v":""},"","","","","","","",""]
[{"$f":"IF(Data!A173>A172,Data!A173,\"\")","v":""},{"$f":"IF(A173=\"\",\"\",Data!B173)","v":""},"","","","","","","",""]
[{"$f":"IF(Data!A174>A173,Data!A174,\"\")","v":""},{"$f":"IF(A174=\"\",\"\",Data!B174)","v":""},"","","","","","","",""]
[{"$f":"IF(Data!A175>A174,Data!A175,\"\")","v":""},{"$f":"IF(A175=\"\",\"\",Data!B175)","v":""},"","","","","","","",""]
[{"$f":"IF(Data!A176>A175,Data!A176,\"\")","v":""},{"$f":"IF(A176=\"\",\"\",Data!B176)","v":""},"","","","","","","",""]
[{"$f":"IF(Data!A177>A176,Data!A177,\"\")","v":""},{"$f":"IF(A177=\"\",\"\",Data!B177)","v":""},"","","","","","","",""]
[{"$f":"IF(Data!A178>A177,Data!A178,\"\")","v":""},{"$f":"IF(A178=\"\",\"\",Data!B178)","v":""},"","","","","","","",""]
[{"$f":"IF(Data!A179>A178,Data!A179,\"\")","v":""},{"$f":"IF(A179=\"\",\"\",Data!B179)","v":""},"","","","","","","",""]
[{"$f":"IF(Data!A180>A179,Data!A180,\"\")","v":""},{"$f":"IF(A180=\"\",\"\",Data!B180)","v":""},"","","","","","","",""]
[{"$f":"IF(Data!A181>A180,Data!A181,\"\")","v":""},{"$f":"IF(A181=\"\",\"\",Data!B181)","v":""},"","","","","","","",""]
[{"$f":"IF(Data!A182>A181,Data!A182,\"\")","v":""},{"$f":"IF(A182=\"\",\"\",Data!B182)","v":""},"","","","","","","",""]
[{"$f":"IF(Data!A183>A182,Data!A183,\"\")","v":""},{"$f":"IF(A183=\"\",\"\",Data!B183)","v":""},"","","","","","","",""]
[{"$f":"IF(Data!A184>A183,Data!A184,\"\")","v":""},{"$f":"IF(A184=\"\",\"\",Data!B184)","v":""},"","","","","","","",""]
[{"$f":"IF(Data!A185>A184,Data!A185,\"\")","v":""},{"$f":"IF(A185=\"\",\"\",Data!B185)","v":""},"","","","","","","",""]
[{"$f":"IF(Data!A186>A185,Data!A186,\"\")","v":""},{"$f":"IF(A186=\"\",\"\",Data!B186)","v":""},"","","","","","","",""]
[{"$f":"IF(Data!A187>A186,Data!A187,\"\")","v":""},{"$f":"IF(A187=\"\",\"\",Data!B187)","v":""},"","","","","","","",""]
[{"$f":"IF(Data!A188>A187,Data!A188,\"\")","v":""},{"$f":"IF(A188=\"\",\"\",Data!B188)","v":""},"","","","","","","",""]
[{"$f":"IF(Data!A189>A188,Data!A189,\"\")","v":""},{"$f":"IF(A189=\"\",\"\",Data!B189)","v":""},"","","","","","","",""]
[{"$f":"IF(Data!A190>A189,Data!A190,\"\")","v":""},{"$f":"IF(A190=\"\",\"\",Data!B190)","v":""},"","","","","","","",""]
[{"$f":"IF(Data!A191>A190,Data!A191,\"\")","v":""},{"$f":"IF(A191=\"\",\"\",Data!B191)","v":""},"","","","","","","",""]
[{"$f":"IF(Data!A192>A191,Data!A192,\"\")","v":""},{"$f":"IF(A192=\"\",\"\",Data!B192)","v":""},"","","","","","","",""]
[{"$f":"IF(Data!A193>A192,Data!A193,\"\")","v":""},{"$f":"IF(A193=\"\",\"\",Data!B193)","v":""},"","","","","","","",""]
[{"$f":"IF(Data!A194>A193,Data!A194,\"\")","v":""},{"$f":"IF(A194=\"\",\"\",Data!B194)","v":""},"","","","","","","",""]
[{"$f":"IF(Data!A195>A194,Data!A195,\"\")","v":""},{"$f":"IF(A195=\"\",\"\",Data!B195)","v":""},"","","","",{"$f":"IF(D195=\"\",\"\",E195*$P$2-F195*$Q$4)","v":""},"","",""]
[{"$f":"IF(Data!A196>A195,Data!A196,\"\")","v":""},{"$f":"IF(A196=\"\",\"\",Data!B196)","v":""},{"$f":"IF(A196=\"\",\"\",(B196-B195)/(A196-A195))","v":""},{"$f":"IF(A197=\"\",\"\",C196*(A196-A197)/(A195-A197)+C197*(A195-A196)/(A195-A197))","v":""},{"$f":"IF(A197=\"\",\"\",B196^$N$2)","v":""},{"$f":"IF(A197=\"\",\"\",B196^$O$2)","v":""},"",{"$f":"B196","v":""},{"$f":"D196","v":""},{"$f":"G196","v":""}]
[{"$f":"IF(Data!A197>A196,Data!A197,\"\")","v":""},{"$f":"IF(A197=\"\",\"\",Data!B197)","v":""},"","","","","","","",""]
[{"$f":"IF(Data!A198>A197,Data!A198,\"\")","v":""},{"$f":"IF(A198=\"\",\"\",Data!B198)","v":""},"","","","","","","",""]
[{"$f":"IF(Data!A199>A198,Data!A199,\"\")","v":""},{"$f":"IF(A199=\"\",\"\",Data!B199)","v":""},"","","","","","","",""]
[{"$f":"IF(Data!A200>A199,Data!A200,\"\")","v":""},{"$f":"IF(A200=\"\",\"\",Data!B200)","v":""},"","","","","","","",""]

{"sheet":"Model_Gen","index":2,"n_rows":28,"n_cols":14,"rows_kept":28}
[null,null,"Model parameters",null,"a","b","p","q","m_0","m_max","SSR","mobs","mmax/mobs","obsmin"]
[{"$nulls":4},0.99,1,{"$f":"H2*J2^(1-E2)","v":1.5326283374925644},1.3816962534307864,656.8949233390888,{"v":31800,"d":"31,800.00"},{"$f":"SUM(D:D)","v":{"v":2539449.367136036,"d":"2,539,449.37"}},{"$f":"MAX(B:B)","v":{"v":31800,"d":"31,800.00"}},{"$f":"J2/L2","v":1},{"$f":"MIN(B:B)","v":410}]
[{"$nulls":8},{"$f":"N2/100","v":4.1},{"$f":"100*L2","v":{"v":3180000,"d":"3,180,000.00"}}]
[{"$nulls":8},"min_mo","max_mmax"]
[{"$f":"Data!A1","v":"Age (d)"},{"$f":"Data!B1","v":"Weight (g)"},"m(t)","error^2"]
[{"$f":"Data!A2","v":0},{"$f":"Data!B2","v":410},{"$f":"$J$2*((1-(1-($I$2/$J$2)^(1-$E$2))*EXP(-$H$2*(1-$E$2)*A6))^(1/(1-$E$2)))","v":656.8949233390887},{"$f":"(B6-C6)^2","v":60957.10317061448}]
[{"$f":"Data!A3","v":2},{"$f":"Data!B3","v":435},731.6392200787652,{"$f":"(B7-C7)^2","v":87994.8268889381},{"$nulls":6},"Solution:"]
[{"$f":"Data!A4","v":3},{"$f":"Data!B4","v":736},771.2560566089423,1242.989527612947]
[{"$f":"Data!A5","v":8},{"$f":"Data!B5","v":736},992.9114411401214,66003.48858869406]
[{"$f":"Data!A6","v":15},{"$f":"Data!B6","v":1126},1373.7468404940694,61378.49697479385]
[{"$f":"Data!A7","v":61},{"$f":"Data!B7","v":5900},6096.521552518496,38620.72060427991]
[{"$f":"Data!A8","v":68},{"$f":"Data!B8","v":6900},7107.408161418162,43018.14542286247]
[{"$f":"Data!A9","v":75},{"$f":"Data!B9","v":7900},8167.883834005076,71761.74852125917]
[{"$f":"Data!A10","v":83},{"$f":"Data!B10","v":9400},9424.557295116021,603.0607434153549]
[{"$f":"Data!A11","v":89},{"$f":"Data!B11","v":10700},10387.643268894657,97566.72746681554]
[{"$f":"Data!A12","v":96},{"$f":"Data!B12","v":11700},11522.338577448723,31563.58106294329]
[{"$f":"Data!A13","v":103},{"$f":"Data!B13","v":13200},12658.236049177318,293508.1784110015]
[{"$f":"Data!A14","v":117},{"$f":"Data!B14","v":15000},14893.670217784658,11306.02258596201]
[{"$f":"Data!A15","v":124},{"$f":"Data!B15","v":16600},15976.2853216307,389020.00001332007]
[{"$f":"Data!A16","v":141},{"$f":"Data!B16","v":18500},18459.888541447766,1608.9291071875598]
[{"$f":"Data!A17","v":169},{"$f":"Data!B17","v":21500},21986.045227976883,236239.9636391005]
[{"$f":"Data!A18","v":178},{"$f":"Data!B18","v":22400},22957.23022076595,310505.5189348678]
[{"$f":"Data!A19","v":192},{"$f":"Data!B19","v":24500},24313.142633626365,34915.67536809092]
[{"$f":"Data!A20","v":215},{"$f":"Data!B20","v":25500},26158.450695995973,433557.3190575808]
[{"$f":"Data!A21","v":288},{"$f":"Data!B21","v":30000},29615.082136488953,148161.76164990937]
[{"$f":"Data!A22","v":389},{"$f":"Data!B22","v":31000},31244.353757896453,59708.75899811852]
[{"$f":"Data!A23","v":420},{"$f":"Data!B23","v":31500},{"$f":"$J$2*((1-(1-($I$2/$J$2)^(1-$E$2))*EXP(-$H$2*(1-$E$2)*A27))^(1/(1-$E$2)))","v":31436.841726848663},{"$f":"(B27-C27)^2","v":3988.967467458921}]
[{"$f":"Data!A24","v":451},{"$f":"Data!B24","v":31800},31562.8979482771,56217.382931209126]

{"sheet":"Summary","index":3,"n_rows":103,"n_cols":20,"rows_kept":103}
["Generalized Bertalanffy model, dm/dt = p*m^a-q*m, for different values of the exponent a",{"$nulls":13},"min AIC","data","parameters","a_opt","mmax/mopt","prob 0,67"]
["data fitting for weight as function m(t) of age t",{"$nulls":8},"evidence",{"$nulls":4},{"$f":"MIN(H:H)","v":268.97603884356573},{"$f":"Data!F3","v":23},4,{"$f":"MAX(M:M)","v":0.83},{"$f":"MAX(N:N)","v":1.0063940675224765},{"$f":"VLOOKUP(0.67,K4:L102,2)","v":{"v":0.016665056019777923,"d":"2%"}}]
["a","b","p","q","m_0","m_max","SSR","AIC","prob","ratio for best","a","prob","auswahl a","Auswahl mmax/mobs",null,null,"m_max, q, m0 and SSR",null,null,0.67]
[0,1,163.33730714452588,4.102587552279561E-3,4.099999999999989,39813.241049242,64468613.10416746,{"$f":"$P$2*LN(G4/$P$2)+2*$Q$2+$Q$2*($Q$2+1)/($P$2-$Q$2-1)","v":350.5735921748816},{"$f":"EXP(-(H4-$O$2)/2)/(1+EXP(-(H4-$O$2)/2))","v":{"v":1.911245279168183E-18,"d":"0.00%"}},{"$f":"IF(I4=0,10^10,MIN(1/EXP(-(H4-$O$2)/2),10^10))","v":10000000000},{"$f":"A4","v":0},{"$f":"I4","v":{"v":1.911245279168183E-18,"d":"0.0%"}},{"$f":"IF(J4=1,K4,-1)","v":-1},{"$f":"IF(J4=1,F4/Data!$F$4,-1)","v":-1}]
[0.01,1,150.48019705746185,0.004224718746836865,4.099999999999996,39596.62136143988,63106195.17225277,{"$f":"$P$2*LN(G5/$P$2)+2*$Q$2+$Q$2*($Q$2+1)/($P$2-$Q$2-1)","v":350.0823227118536},{"$f":"EXP(-(H5-$O$2)/2)/(1+EXP(-(H5-$O$2)/2))","v":{"v":2.4433981131121435E-18,"d":"0.00%"}},{"$f":"IF(I5=0,10^10,MIN(1/EXP(-(H5-$O$2)/2),10^10))","v":10000000000},{"$f":"A5","v":0.01},{"$f":"I5","v":{"v":2.4433981131121435E-18,"d":"0.0%"}},{"$f":"IF(J5=1,K5,-1)","v":-1},{"$f":"IF(J5=1,F5/Data!$F$4,-1)","v":-1}]
[0.02,1,138.65332446991349,0.004350095659613819,4.100000000000025,39385.67062422078,61746056.349306084,349.5811794775608,{"v":3.1391791762059076E-18,"d":"0.00%"},10000000000,0.02,{"v":3.1391791762059076E-18,"d":"0.0%"},-1,{"$f":"IF(J6=1,F6/Data!$F$4,-1)","v":-1}]
[0.03,1,127.77313013492524,0.004478843042354801,4.099999999999992,39180.11088079456,60388406.85176599,349.0698213584065,{"v":4.05374204587352e-18,"d":"0.00%"},10000000000,0.03,{"v":4.05374204587352e-18,"d":"0.0%"},-1,{"$f":"IF(J7=1,F7/Data!$F$4,-1)","v":-1}]
[0.04,1,117.76302403785863,0.004611085082556796,4.0999999999999925,38979.780495525614,59033466.84246378,348.5478908851801,{"v":5.262497127081738E-18,"d":"0.00%"},10000000000,0.04,{"v":5.262497127081738E-18,"d":"0.0%"},-1,{"$f":"IF(J8=1,F8/Data!$F$4,-1)","v":-1}]
[0.05,1,108.55234920291204,4.746939286703316E-3,4.100000000000002,38784.524653839646,57681466.964992814,348.01501326377866,{"v":6.8691781055506564E-18,"d":"0.00%"},10000000000,0.05,{"v":6.8691781055506564E-18,"d":"0.0%"},-1,{"$f":"IF(J9=1,F9/Data!$F$4,-1)","v":-1}]
[0.06,1,100.07653021720479,0.004886565322708979,4.099999999999986,38593.99297779272,56332648.89979701,347.4707953368074,{"v":9.017376402270838e-18,"d":"0.00%"},10000000000,0.06,{"v":9.017376402270838e-18,"d":"0.0%"},-1,{"$f":"IF(J10=1,F10/Data!$F$4,-1)","v":-1}]
[0.07,1,92.27601586665914,0.00503008071300066,4.100000000000003,38408.16230336917,54987265.915333904,346.9148244590277,{"v":1.190714769168597E-17,"d":"0.00%"},10000000000,0.07,{"v":1.190714769168597E-17,"d":"0.0%"},-1,{"$f":"IF(J11=1,F11/Data!$F$4,-1)","v":-1}]
[0.08,1,85.0962862719992,0.005177640300941836,4.100000000000018,38226.82128083033,53645583.50376087,346.346667316641,{"v":1.5819089980922707E-17,"d":"0.00%"},10000000000,0.08,{"v":1.5819089980922707E-17,"d":"0.0%"},-1,{"$f":"IF(J12=1,F12/Data!$F$4,-1)","v":-1}]
[0.09,1,78.48707905863321,0.005329387392010855,4.099999999999988,38049.82045085964,52307880.01066033,345.7658686481682,{"v":2.1149510723659892E-17,"d":"0.00%"},10000000000,0.09,{"v":2.1149510723659892E-17,"d":"0.0%"},-1,{"$f":"IF(J13=1,F13/Data!$F$4,-1)","v":-1}]
[0.1,1,72.40266426056345,5.485513464195341E-3,4.100000000000014,37876.92690035008,50974447.30460145,345.17194987812775,{"v":2.846217909343901e-17,"d":"0.00%"},10000000000,0.1,{"v":2.846217909343901e-17,"d":"0.0%"},-1,{"$f":"IF(J14=1,F14/Data!$F$4,-1)","v":-1}]
[0.11,1,66.80063210422077,0.005646174716049459,4.100000000000008,37708.04346690886,49645591.48246739,344.5644076549848,{"v":3.856508248280725e-17,"d":"0.00%"},10000000000,0.11,{"v":3.856508248280725e-17,"d":"0.0%"},-1,{"$f":"IF(J15=1,F15/Data!$F$4,-1)","v":-1}]
[0.12,1,61.64217258723744,0.005811554443784231,4.099999999999982,37543.01274569998,48321633.61338268,343.9427122873372,{"v":5.2625192608091503E-17,"d":"0.00%"},10000000000,0.12,{"v":5.2625192608091503E-17,"d":"0.0%"},-1,{"$f":"IF(J16=1,F16/Data!$F$4,-1)","v":-1}]
[0.13,1,56.891626802537644,0.005981844608275194,4.100000000000012,37381.68553732428,47002910.512885906,343.3063060666918,{"v":7.234150727789772e-17,"d":"0.00%"},10000000000,0.13,{"v":7.234150727789772e-17,"d":"0.0%"},-1,{"$f":"IF(J17=1,F17/Data!$F$4,-1)","v":-1}]
[0.14,1,52.5162409195028,0.006157246742070056,4.100000000000024,37223.92628716956,45689775.556846365,342.6546014728867,{"v":1.0020823383055715E-16,"d":"0.00%"},10000000000,0.14,{"v":1.0020823383055715E-16,"d":"0.0%"},-1,{"$f":"IF(J18=1,F18/Data!$F$4,-1)","v":-1}]
[0.15,1,48.48587176605996,0.006337953611042618,4.100000000000021,37069.69414802819,44382599.52815423,341.9869792503401,{"v":1.399186903262877e-16,"d":"0.00%"},10000000000,0.15,{"v":1.399186903262877e-16,"d":"0.0%"},-1,{"$f":"IF(J19=1,F19/Data!$F$4,-1)","v":-1}]
[0.16,1,44.77284134963776,0.006524195637818284,4.099999999999984,36918.77131198626,43081771.52784382,341.3027863628749,{"v":1.9699097475029603E-16,"d":"0.00%"},10000000000,0.16,{"v":1.9699097475029603E-16,"d":"0.0%"},-1,{"$f":"IF(J20=1,F20/Data!$F$4,-1)","v":-1},"Figure: Probability that exponent a is true, when compared with a_opt"]
[0.17,1,41.351818782352545,6.7162120301439655E-3,4.100000000000014,36771.071585049016,41787699.88283288,340.6013337840954,{"v":2.797466028585844E-16,"d":"0.00%"},10000000000,0.17,{"v":2.797466028585844E-16,"d":"0.0%"},-1,{"$f":"IF(J21=1,F21/Data!$F$4,-1)","v":-1}]
[0.18,1,38.19946043938177,0.006914257105749889,4.099999999999978,36626.44443044644,40500813.13957508,339.8818941608392,{"v":4.0085670337725605E-16,"d":"0.00%"},10000000000,0.18,{"v":4.0085670337725605E-16,"d":"0.0%"},-1,{"$f":"IF(J22=1,F22/Data!$F$4,-1)","v":-1}]
[0.19,1,35.29417113877435,0.007118546629238964,4.099999999999977,36484.89929870656,39221561.069443636,339.1436993038963,{"v":5.798105682500529e-16,"d":"0.00%"},10000000000,0.19,{"v":5.798105682500529e-16,"d":"0.0%"},-1,{"$f":"IF(J23=1,F23/Data!$F$4,-1)","v":-1}]
[0.2,1,32.61635383869215,0.007329389854802569,4.099999999999986,36346.23950141098,37950415.741119,338.3859375292111,{"v":8.468997519790885e-16,"d":"0.00%"},10000000000,0.2,{"v":8.468997519790885e-16,"d":"0.0%"},-1,{"$f":"IF(J24=1,F24/Data!$F$4,-1)","v":-1}]
[0.21,1,30.147870861640918,7.5470717920856955E-3,4.099999999999989,36210.38315750155,36687872.61707758,337.60775082106727,{"v":1.2497210996759165E-15,"d":"0.00%"},10000000000,0.21,{"v":1.2497210996759165E-15,"d":"0.0%"},-1,{"$f":"IF(J25=1,F25/Data!$F$4,-1)","v":-1}]
[0.22,1,27.871953505999084,0.007771860940006209,4.099999999999998,36077.28359030019,35434451.7090343,336.8082318348145,{"v":1.8639164630266573E-15,"d":"0.00%"},10000000000,0.22,{"v":1.8639164630266573E-15,"d":"0.0%"},-1,{"$f":"IF(J26=1,F26/Data!$F$4,-1)","v":-1}]
[0.23,1,25.773395689750966,0.00800411627612494,4.100000000000003,35946.786147109866,34190698.768686,335.98642072669776,{"v":2.8111269516190267E-15,"d":"0.00%"},10000000000,0.23,{"v":2.8111269516190267E-15,"d":"0.0%"},-1,{"$f":"IF(J27=1,F27/Data!$F$4,-1)","v":-1}]
[0.24,1,23.838087576258324,0.008244163878262774,4.099999999999996,35818.84454358679,32957186.527187645,335.1413018250373,{"v":4.2893915977434805E-15,"d":"0.00%"},10000000000,0.24,{"v":4.2893915977434805E-15,"d":"0.0%"},-1,{"$f":"IF(J28=1,F28/Data!$F$4,-1)","v":-1}]
[0.25,1,22.05303034144613,8.492348437341958E-3,4.1000000000000005,35693.34860596046,31734515.98774471,334.27180015990973,{"v":6.625300549056988e-15,"d":"0.00%"},10000000000,0.25,{"v":6.625300549056988e-15,"d":"0.0%"},-1,{"$f":"IF(J29=1,F29/Data!$F$4,-1)","v":-1}]
[0.26,1,20.40636869444706,0.008749062281689002,4.1,35570.23914358648,30523317.736935128,333.3767778500736,{"v":1.0364711294916465E-14,"d":"0.00%"},10000000000,0.26,{"v":1.0364711294916465E-14,"d":"0.0%"},-1,{"$f":"IF(J30=1,F30/Data!$F$4,-1)","v":-1}]
[0.27,1,18.88713587630243,0.009014701207876941,4.099999999999997,35449.43121604643,29324253.331136074,332.4550304222343,{"v":1.6432820838176705E-14,"d":"0.00%"},10000000000,0.27,{"v":1.6432820838176705E-14,"d":"0.0%"},-1,{"$f":"IF(J31=1,F31/Data!$F$4,-1)","v":-1}]
[0.28,1,17.485262382821634,0.009289689767636852,4.100000000000005,35330.85011162686,28138016.700777184,331.50528307609494,{"v":2.6420871334128572E-14,"d":"0.00%"},10000000000,0.28,{"v":2.6420871334128572E-14,"d":"0.0%"},-1,{"$f":"IF(J32=1,F32/Data!$F$4,-1)","v":-1}]
[0.29,1,16.19148769937164,0.009574479107943352,4.099999999999994,35214.421736834774,26965335.603625596,330.52618699393105,{"v":4.310772949786413e-14,"d":"0.00%"},10000000000,0.29,{"v":4.310772949786413e-14,"d":"0.0%"},-1,{"$f":"IF(J33=1,F33/Data!$F$4,-1)","v":-1}]
[0.3,1,14.997295323540284,0.009869550382184643,4.100000000000003,35100.06854635643,25806973.1136055,329.5163157939276,{"v":7.142428372603822e-14,"d":"0.00%"},10000000000,0.3,{"v":7.142428372603822e-14,"d":"0.0%"},-1,{"$f":"IF(J34=1,F34/Data!$F$4,-1)","v":-1}]
[0.31,1,13.89484380847777,0.010175409812987138,4.100000000000008,34987.71610949009,24663729.143559653,328.4741622773248,{"v":1.202670489361572e-13,"d":"0.00%"},10000000000,0.31,{"v":1.202670489361572e-13,"d":"0.0%"},-1,{"$f":"IF(J35=1,F35/Data!$F$4,-1)","v":-1}]
[0.32,1,12.876918854496111,0.010492588102118075,4.100000000000005,34877.32263947862,23536441.995888654,327.3981356726629,{"v":2.0596947544564803E-13,"d":"0.00%"},10000000000,0.32,{"v":2.0596947544564803E-13,"d":"0.0%"},-1,{"$f":"IF(J36=1,F36/Data!$F$4,-1)","v":-1}]
[0.33,1,11.936890552156497,0.01082166315076387,4.0999999999999925,34768.811982040796,22425989.943870474,326.28655966528737,{"v":3.590695075344388E-13,"d":"0.00%"},10000000000,0.33,{"v":3.590695075344388E-13,"d":"0.0%"},-1,{"$f":"IF(J37=1,F37/Data!$F$4,-1)","v":-1}]
[0.34,1,11.068655052985713,0.011163244811880862,4.100000000000003,34662.1229037024,21333292.829167206,325.1376715872293,{"v":6.377587155869843e-13,"d":"0.00%"},10000000000,0.34,{"v":6.377587155869843e-13,"d":"0.0%"},-1,{"$f":"IF(J38=1,F38/Data!$F$4,-1)","v":-1}]
[0.35,1,10.26659802642676,0.01151798381113446,4.100000000000002,34557.204798203755,20259313.673754983,323.94962329131374,{"v":1.1551484825753446E-12,"d":"0.00%"},10000000000,0.35,{"v":1.1551484825753446E-12,"d":"0.0%"},-1,{"$f":"IF(J39=1,F39/Data!$F$4,-1)","v":-1}]
[0.36,1,9.525537345943778,0.01188655684273805,4.099999999999995,34454.004575998384,19205060.30328577,322.7204844186604,{"v":2.135708257877852e-12,"d":"0.00%"},10000000000,0.36,{"v":2.135708257877852e-12,"d":"0.0%"},-1,{"$f":"IF(J40=1,F40/Data!$F$4,-1)","v":-1}]
[0.37,1,8.840738749161973,0.01226974428519845,4.099999999999987,34352.41034644253,18171586.961953886,321.4482489981852,{"v":4.034635804799678e-12,"d":"0.00%"},10000000000,0.37,{"v":4.034635804799678e-12,"d":"0.0%"},-1,{"$f":"IF(J41=1,F41/Data!$F$4,-1)","v":-1}]
[0.38,1,8.20780995997561,0.012668313566227074,4.1,34252.408082668415,17159995.917147618,320.13084666893945,{"v":7.796050062865282e-12,"d":"0.00%"},10000000000,0.38,{"v":7.796050062865282e-12,"d":"0.0%"},-1,{"$f":"IF(J42=1,F42/Data!$F$4,-1)","v":-1}]
[0.39,1,7.622716489798028,0.013083104664139599,4.100000000000002,34153.94733656051,16171439.04806777,318.76616026285126,{"v":1.5424550159246672E-11,"d":"0.00%"},10000000000,0.39,{"v":1.5424550159246672E-11,"d":"0.0%"},-1,{"$f":"IF(J43=1,F43/Data!$F$4,-1)","v":-1}]
[0.4,1,7.081749366768899,0.013515031026217298,4.1,34056.957097777246,15207119.394249301,317.3520520640409,{"v":3.1281113274465614E-11,"d":"0.00%"},10000000000,0.4,{"v":3.1281113274465614E-11,"d":"0.0%"},-1,{"$f":"IF(J44=1,F44/Data!$F$4,-1)","v":-1}]
[0.41,1,6.581488005019393,0.013965052986721719,4.1,33961.401474170976,14268292.653888179,315.88640188324325,{"v":6.509446978225022e-11,"d":"0.00%"},10000000000,0.41,{"v":6.509446978225022e-11,"d":"0.0%"},-1,{"$f":"IF(J45=1,F45/Data!$F$4,-1)","v":-1}]
[0.42,1,6.118786886912069,0.014434217745917449,4.100000000000009,33867.211447770984,13356268.623843092,314.36716117086627,{"v":1.391371242346159e-10,"d":"0.00%"},7187154437.478829,0.42,{"v":1.391371242346159e-10,"d":"0.0%"},-1,{"$f":"IF(J46=1,F46/Data!$F$4,-1)","v":-1}]
[0.43,1,5.69074593399321,0.014923637672084659,4.100000000000017,33774.33780677699,12472412.551515961,312.79242879469126,{"v":3.0576784577018687E-10,"d":"0.00%"},3270455064.2837234,0.43,{"v":3.0576784577018687E-10,"d":"0.0%"},-1,{"$f":"IF(J47=1,F47/Data!$F$4,-1)","v":-1}]
[0.44,1,5.294695062751878,0.015434509680753078,4.099999999999988,33682.73502949562,11618146.388715798,311.1605560300037,{"v":6.914304184875807e-10,"d":"0.00%"},1446277127.1995049,0.44,{"v":6.914304184875807e-10,"d":"0.0%"},-1,{"$f":"IF(J48=1,F48/Data!$F$4,-1)","v":-1}]
[0.45,1,4.928174670751241,0.015968122365432453,4.099999999999985,33592.35388632716,10794949.92378828,309.470290755728,{"v":1.6098481845752711E-9,"d":"0.00%"},621176585.4517415,0.45,{"v":1.6098481845752711E-9,"d":"0.0%"},-1,{"$f":"IF(J49=1,F49/Data!$F$4,-1)","v":-1}]
[0.46,1,4.588918870346502,0.0165258635304369,4.099999999999993,33503.14586515351,10004361.766942505,307.7209739935095,{"v":3.860505981259805E-9,"d":"0.00%"},259033401.57840207,0.46,{"v":3.860505981259805E-9,"d":"0.0%"},-1,{"$f":"IF(J50=1,F50/Data!$F$4,-1)","v":-1}]
[0.47,1,4.274840010251629,0.017109229560847976,4.099999999999989,33415.06320456009,9247980.16516355,305.91280582253785,{"v":9.5341714337638678E-9,"d":"0.00%"},104885883.1009138,0.47,{"v":9.5341714337638678E-9,"d":"0.0%"},-1,{"$f":"IF(J51=1,F51/Data!$F$4,-1)","v":-1}]
[0.48,1,3.984014462499853,0.017719835922170357,4.1000000000000005,33328.05884705714,8527463.618918609,304.04720226439355,{"v":2.4232243013655789E-8,"d":"0.00%"},41267330.27579078,0.48,{"v":2.4232243013655789E-8,"d":"0.0%"},-1,{"$f":"IF(J52=1,F52/Data!$F$4,-1)","v":-1}]
[0.49,1,3.7146695840340818,0.01835942906562404,4.100000000000002,33242.0861763235,7844531.271170427,302.127269598203,{"v":6.3285130500021676E-8,"d":"0.00%"},15801499.164397348,0.49,{"v":6.3285130500021676E-8,"d":"0.0%"},-1,{"$f":"IF(J53=1,F53/Data!$F$4,-1)","v":-1}]
[0.5,1,3.465171591977029,0.019029898118864234,4.099999999999998,33157.10192178553,7200963.03696726,300.15842673879337,{"v":1.6936763714609817E-7,"d":"0.00%"},5904314.705469695,0.5,{"v":1.6936763714609817E-7,"d":"0.0%"},-1,{"$f":"IF(J54=1,F54/Data!$F$4,-1)","v":-1}]
[0.51,1,3.23401486687205,0.01973329423845211,4.1,33073.05609210457,6598599.441222165,298.1492076525952,{"v":4.6251591626933392E-7,"d":"0.00%"},2162086.7570355358,0.51,{"v":4.6251591626933392E-7,"d":"0.0%"},-1,{"$f":"IF(J55=1,F55/Data!$F$4,-1)","v":-1}]
[0.52,1,3.019811344466691,0.020471840443634547,4.1000000000000005,32989.90707325908,6039341.126594196,296.1122701608168,{"v":1.2806831143442412E-6,"d":"0.00%"},780832.2824877123,0.52,{"v":1.2806831143442412E-6,"d":"0.0%"},-1,{"$f":"IF(J56=1,F56/Data!$F$4,-1)","v":-1}]
[0.53,1,2.821284154177286,0.021247978592517616,4.1000000000000005,32907.59854019636,5525147.997784073,294.0656177593278,{"v":3.5634085215272572E-6,"d":"0.00%"},280629.18706915074,0.53,{"v":3.5634085215272572E-6,"d":"0.0%"},-1,{"$f":"IF(J57=1,F57/Data!$F$4,-1)","v":-1}]
[0.54,1,2.6372480901692197,0.02206429488185379,4.099999999999999,32826.11000079289,5058037.963902076,292.03399601839493,{"v":9.8406535825345854E-6,"d":"0.00%"},101618.26660794388,0.54,{"v":9.8406535825345854E-6,"d":"0.0%"},-1,{"$f":"IF(J58=1,F58/Data!$F$4,-1)","v":-1}]
[0.55,1,2.4666189735924964,0.022923691305024155,4.1,32745.38011940688,4640085.23358081,290.0503398915591,{"v":2.6531521113162784E-5,"d":"0.00%"},37690.01649825427,0.55,{"v":2.6531521113162784E-5,"d":"0.0%"},-1,{"$f":"IF(J59=1,F59/Data!$F$4,-1)","v":-1}]
[0.56,1,2.3083928709524817,0.02382929140959909,4.1,32665.380273315026,4273418.130815893,288.15700911665937,{"v":6.8371566756672639E-5,"d":"0.01%"},14624.962917580882,0.56,{"v":6.8371566756672639E-5,"d":"0.0%"},-1,{"$f":"IF(J60=1,F60/Data!$F$4,-1)","v":-1}]
[0.57,1,2.161646802253052,0.024784554133863053,4.1,32586.0473606146,3960216.388560831,286.4063563269563,{"v":1.6405270532138445E-4,"d":"0.02%"},6094.602008153224,0.57,{"v":1.6405270532138445E-4,"d":"0.0%"},-1,{"$f":"IF(J61=1,F61/Data!$F$4,-1)","v":-1}]
[0.58,1,2.025528153139596,0.025793251431999637,4.1,32507.338237050662,3702707.876327186,284.8599684180199,{"v":3.5538095494378591E-4,"d":"0.04%"},2812.8817966713486,0.58,{"v":3.5538095494378591E-4,"d":"0.0%"},-1,{"$f":"IF(J62=1,F62/Data!$F$4,-1)","v":-1}]
[0.59,1,1.8992476864074026,0.026859477589427035,4.1,32429.234264787898,3503164.729096766,283.5858226478679,{"v":0.00067179056954811,"d":"0.07%"},1487.5591512138449,0.59,{"v":0.00067179056954811,"d":"0.1%"},-1,{"$f":"IF(J63=1,F63/Data!$F$4,-1)","v":-1}]
[0.6,1,1.7820851985372927,0.02798786219626537,4.1,32351.680168684892,3363898.8327506306,282.6528023455958,{"v":0.001070688891862423,"d":"0.11%"},932.9781215629664,0.6,{"v":0.001070688891862423,"d":"0.1%"},-1,{"$f":"IF(J64=1,F64/Data!$F$4,-1)","v":-1}]
[0.61,1,1.6552720663543345,0.02884547511862895,9.790825211242751,32338.679386961565,3260617.5666601486,281.93556912437685,{"v":1.531820876691266E-3,"d":"0.15%"},651.8178426187798,0.61,{"v":1.531820876691266E-3,"d":"0.2%"},-1,{"$f":"IF(J65=1,F65/Data!$F$4,-1)","v":-1}]
[0.62,1,1.537020654925958,0.029718187115586252,18.546787660675477,32331.41505184262,3155360.194460987,281.18084805921217,{"v":2.2324858367123385E-3,"d":"0.22%"},446.93117320405764,0.62,{"v":2.2324858367123385E-3,"d":"0.2%"},-1,{"$f":"IF(J66=1,F66/Data!$F$4,-1)","v":-1}]
[0.63,1,1.428680019537639,0.03064922198164961,29.31336749891842,32322.23591663471,3049544.591234419,280.39630907571234,{"v":3.3012903634233796E-3,"d":"0.33%"},301.91185867183697,0.63,{"v":3.3012903634233796E-3,"d":"0.3%"},-1,{"$f":"IF(J67=1,F67/Data!$F$4,-1)","v":-1}]
[0.64,1,1.329342805473923,0.03164237202286351,41.64683022073031,32311.37477388349,2944642.041851497,279.5911940029441,{"v":4.9294923782950235E-3,"d":"0.49%"},201.86064431361848,0.64,{"v":4.9294923782950235E-3,"d":"0.5%"},-1,{"$f":"IF(J68=1,F68/Data!$F$4,-1)","v":-1}]
[0.65,1,1.238160921973837,0.03270091539243469,55.226017867320316,32299.213813620212,2841824.402045283,{"$f":"$P$2*LN(G69/$P$2)+2*$Q$2+$Q$2*($Q$2+1)/($P$2-$Q$2-1)","v":278.7737505211968},{"$f":"EXP(-(H69-$O$2)/2)/(1+EXP(-(H69-$O$2)/2))","v":{"v":0.007399940681015588,"d":"0.74%"}},{"$f":"IF(I69=0,10^10,MIN(1/EXP(-(H69-$O$2)/2),10^10))","v":134.13621839773413},{"$f":"A69","v":0.65},{"$f":"I69","v":{"v":0.007399940681015588,"d":"0.7%"}},{"$f":"IF(J69=1,K69,-1)","v":-1},{"$f":"IF(J69=1,F69/Data!$F$4,-1)","v":-1}]
[0.66,1,1.1544179197900626,0.03382973973676495,69.78068063491148,32285.903912567483,2742020.4231747896,277.9514726538685,{"v":0.011121218412766722,"d":"1.11%"},88.91820526175793,0.66,{"v":0.011121218412766722,"d":"1.1%"},-1,{"$f":"IF(J70=1,F70/Data!$F$4,-1)","v":-1}]
[0.67,1,1.077453099839523,0.03503379321177179,85.11533828576967,32271.700979271805,2645964.889582345,277.1313102942328,{"v":0.016665056019777923,"d":"1.67%"},59.005798889197244,0.67,{"v":0.016665056019777923,"d":"1.7%"},-1,{"$f":"IF(J71=1,F71/Data!$F$4,-1)","v":-1}]
[0.68,1,1.006686919487006,0.03631916476715431,101.07450415672234,32256.744997874757,2554238.284747445,276.31983017176793,{"v":0.024797660476166463,"d":"2.48%"},39.32638486042344,0.68,{"v":0.024797660476166463,"d":"2.5%"},-1,{"$f":"IF(J72=1,F72/Data!$F$4,-1)","v":-1}]
[0.69,1,0.941607645499795,0.03769315303926632,117.5196287706275,32241.208886048036,2467298.0665721553,275.5233309675063,{"v":0.03648643348790475,"d":"3.65%"},26.407447218196864,0.69,{"v":0.03648643348790475,"d":"3.6%"},-1,{"$f":"IF(J73=1,F73/Data!$F$4,-1)","v":-1}]
[0.7,1,0.881737933970683,0.039163439730760904,134.37404358530785,32225.202462498528,2385503.188395563,274.74791887648644,{"v":0.05285299081803405,"d":"5.29%"},17.9204051563112,0.7,{"v":0.05285299081803405,"d":"5.3%"},-1,{"$f":"IF(J74=1,F74/Data!$F$4,-1)","v":-1}]
[0.71,1,0.8266643555514834,0.04073957738838454,151.54326128489913,32208.819041643193,2309133.173374132,273.9995476811511,{"v":0.07503824881888417,"d":"7.50%"},12.326537009327692,0.71,{"v":0.07503824881888417,"d":"7.5%"},-1,{"$f":"IF(J75=1,F75/Data!$F$4,-1)","v":-1}]
[0.72,1,0.7760098836710676,0.04243237052624772,168.96808310557196,32192.140157546215,2238403.1857923656,273.2840301859073,{"v":0.10395843261943254,"d":"10.40%"},8.619229290044855,0.72,{"v":0.10395843261943254,"d":"10.4%"},-1,{"$f":"IF(J76=1,F76/Data!$F$4,-1)","v":-1}]
[0.73,1,0.7294353334326976,0.044254351415995374,186.5905767540775,32175.22123485701,2173475.9028517627,272.6070237235021,{"v":0.13997562398793661,"d":"14.00%"},6.144101033521251,0.73,{"v":0.13997562398793661,"d":"14.0%"},-1,{"$f":"IF(J77=1,F77/Data!$F$4,-1)","v":-1}]
[0.74,1,0.6866288808901305,0.046219616841142876,204.38511366346154,32158.164557059732,2114470.975174692,271.9739939571171,{"v":0.18257806710351138,"d":"18.26%"},4.477109139473236,0.74,{"v":0.18257806710351138,"d":"18.3%"},-1,{"$f":"IF(J78=1,F78/Data!$F$4,-1)","v":-1}]
[0.75,1,0.6473193929526535,0.0483452407931105,222.30117467931814,32141.01311923047,2061472.5724512916,271.390160051582,{"v":0.23022155638180627,"d":"23.02%"},3.3436419061539584,0.75,{"v":0.23022155638180627,"d":"23.0%"},-1,{"$f":"IF(J79=1,F79/Data!$F$4,-1)","v":-1}]
[0.76,1,0.6112602410055082,0.050650975144399785,240.30936747733764,32123.762462966817,2014535.5241365011,270.86042615133954,{"v":0.28045744776624193,"d":"28.05%"},2.565603295489905,0.76,{"v":0.28045744776624193,"d":"28.0%"},-1,{"$f":"IF(J80=1,F80/Data!$F$4,-1)","v":-1}]
[0.77,1,0.5782299840723263,0.05315992005645462,258.38530752543465,32106.470161261794,1973690.2651774785,270.3893024723072,{"v":0.33034351278570795,"d":"33.03%"},2.0271519230610546,0.77,{"v":0.33034351278570795,"d":"33.0%"},-1,{"$f":"IF(J81=1,F81/Data!$F$4,-1)","v":-1}]
[0.78,1,0.5480331628781159,0.055899507664277676,276.5087647079224,32089.166710782225,1938946.9004721425,269.9808217681338,{"v":0.37697883108960695,"d":"37.70%"},1.652668843790601,0.78,{"v":0.37697883108960695,"d":"37.7%"},-1,{"$f":"IF(J82=1,F82/Data!$F$4,-1)","v":-1}]
[0.79,1,0.5204978728118234,0.058902373631140544,294.66185272676853,32071.89227435373,1910298.5438722034,269.6384562952545,{"v":0.41794655063807384,"d":"41.79%"},1.3926504441137564,0.79,{"v":0.41794655063807384,"d":"41.8%"},-1,{"$f":"IF(J83=1,F83/Data!$F$4,-1)","v":-1}]
[0.8,1,0.49547661005442295,0.062207815074394726,312.82933170470767,32054.650682927073,1887724.0821638473,269.36504100271804,{"v":0.45152744627454694,"d":"45.15%"},1.2147047942506681,0.8,{"v":0.45152744627454694,"d":"45.2%"},-1,{"$f":"IF(J84=1,F84/Data!$F$4,-1)","v":-1}]
[0.81,1,0.472845420891916,0.06586339886481546,330.99676692036127,32037.465582905716,1871190.4720621505,269.1627083988535,{"v":0.47668322990372963,"d":"47.67%"},1.0978292024285368,0.81,{"v":0.47668322990372963,"d":"47.7%"},-1,{"$f":"IF(J85=1,F85/Data!$F$4,-1)","v":-1}]
[0.82,1,0.4525046423672269,0.06992723449578019,349.15256813841745,32020.347009632922,1860654.66753148,269.03284012245877,{"v":0.49290031734678136,"d":"49.29%"},1.0288077828451618,0.82,{"v":0.49290031734678136,"d":"49.3%"},-1,{"$f":"IF(J86=1,F86/Data!$F$4,-1)","v":-1}]
[0.83,1,0.4343819521084116,0.07447124094553881,367.28333971873354,32003.331347214753,1856065.2254465001,268.97603884356573,{"v":0.5,"d":"50.00%"},1,0.83,{"v":0.5,"d":"50.0%"},0.83,{"$f":"IF(J87=1,F87/Data!$F$4,-1)","v":1.0063940675224765}]
[0.84,1,0.4184338581340261,0.07958520991819344,385.3818088735974,31986.397438985452,1857363.6848085287,268.992123474383,{"v":0.49798943198459744,"d":"49.80%"},1.008074741696385,0.84,{"v":0.49798943198459744,"d":"49.8%"},-1,{"$f":"IF(J88=1,F88/Data!$F$4,-1)","v":-1}]
[0.85,1,0.40465231796266665,0.08538302675051641,403.44432343134883,31969.55389054661,1864485.7046727359,269.08014780834964,{"v":0.4869893171564883,"d":"48.70%"},1.0534331345068537,0.85,{"v":0.4869893171564883,"d":"48.7%"},-1,{"$f":"IF(J89=1,F89/Data!$F$4,-1)","v":-1}]
[0.86,1,0.39306969110684964,0.09201066714003295,421.4723769486158,31952.867717391196,1877362.0542704249,269.238442441819,{"v":0.467246521369202,"d":"46.72%"},1.1401978490276115,0.86,{"v":0.467246521369202,"d":"46.7%"},-1,{"$f":"IF(J90=1,F90/Data!$F$4,-1)","v":-1}]
[0.87,1,0.3837754110206364,0.09965983881991992,439.44725733686744,31936.2814103845,1895919.4491368148,269.4646770987695,{"v":0.43922224573008645,"d":"43.92%"},1.2767517121947558,0.87,{"v":0.43922224573008645,"d":"43.9%"},-1,{"$f":"IF(J91=1,F91/Data!$F$4,-1)","v":-1}]
[0.88,1,0.3769300985257335,0.10858593146484863,457.36069012909115,31919.822959433546,1920081.2605641854,269.7559396700748,{"v":0.40372923775967845,"d":"40.37%"},1.476907557027748,0.88,{"v":0.40372923775967845,"d":"40.4%"},-1,{"$f":"IF(J92=1,F92/Data!$F$4,-1)","v":-1}]
[0.89,1,0.37279403059645505,0.1191370241275555,475.2107438096477,31903.490232668148,1949768.14203989,270.10882764965,{"v":0.36206921309448714,"d":"36.21%"},1.7619028733576296,0.89,{"v":0.36206921309448714,"d":"36.2%"},-1,{"$f":"IF(J93=1,F93/Data!$F$4,-1)","v":-1}]
[0.9,1,0.3717727638817648,0.13180011625315677,492.99728109888247,31887.30149870477,1984898.5539695078,270.51954652789254,{"v":0.3160998371551565,"d":"31.61%"},2.1635574665264805,0.9,{"v":0.3160998371551565,"d":"31.6%"},-1,{"$f":"IF(J94=1,F94/Data!$F$4,-1)","v":-1}]
[0.91,1,0.37449627776518013,0.14727925456223812,510.7159359020957,31871.257643883928,2025389.2120048448,270.9840103455452,{"v":0.26815849722665414,"d":"26.82%"},2.729137843261314,0.91,{"v":0.26815849722665414,"d":"26.8%"},-1,{"$f":"IF(J95=1,F95/Data!$F$4,-1)","v":-1}]
[0.92,1,0.381950405824546,0.1666296703506668,528.3711486882386,31855.396004870618,2071155.4901301162,271.4979401424995,{"v":0.22081028661815547,"d":"22.08%"},3.5287745209501398,0.92,{"v":0.22081028661815547,"d":"22.1%"},-1,{"$f":"IF(J96=1,F96/Data!$F$4,-1)","v":-1}]
[0.93,1,0.39573340960385556,0.19151154078050642,545.9490104518034,31839.63598119906,2122111.751663472,272.0569561278637,{"v":0.17646861159874172,"d":"17.65%"},4.6667301393735805,0.93,{"v":0.17646861159874172,"d":"17.6%"},-1,{"$f":"IF(J97=1,F97/Data!$F$4,-1)","v":-1}]
[0.94,1,0.4185517706855519,0.2246900662665491,563.4412169218256,31824.030875881468,2178171.647844132,272.6566610966972,{"v":0.13701450034041346,"d":"13.70%"},6.298497586134995,0.94,{"v":0.13701450034041346,"d":"13.7%"},-1,{"$f":"IF(J98=1,F98/Data!$F$4,-1)","v":-1}]
[0.95,1,0.45532830840013666,0.27114241083752766,580.8644972918148,31808.557348926326,2239248.381418519,273.292713085566,{"v":0.10355471667361606,"d":"10.36%"},8.65673058767378,0.95,{"v":0.10355471667361606,"d":"10.4%"},-1,{"$f":"IF(J99=1,F99/Data!$F$4,-1)","v":-1}]
[0.96,1,0.5157568063049244,0.3406809763044075,599.1225614022683,31800,2305380.1290632435,273.9621352683891,{"v":0.07634696540447407,"d":"7.63%"},12.098097543263954,0.96,{"v":0.07634696540447407,"d":"7.6%"},-1,{"$f":"IF(J100=1,F100/Data!$F$4,-1)","v":-1}]
[0.97,1,0.6228223274994941,0.45634296472677527,618.4708011671719,31800,2377429.5951781664,274.6699447247232,{"v":0.05483903748008281,"d":"5.48%"},17.23518511540604,0.97,{"v":0.05483903748008281,"d":"5.5%"},-1,{"$f":"IF(J101=1,F101/Data!$F$4,-1)","v":-1}]
[0.98,1,0.8461214328917542,0.6876764530748626,637.728772956377,31800,2455488.9824267975,275.4129831285135,{"v":0.03847647032599581,"d":"3.85%"},24.989909976861135,0.98,{"v":0.03847647032599581,"d":"3.8%"},-1,{"$f":"IF(J102=1,F102/Data!$F$4,-1)","v":-1}]
[0.99,1,1.5326283374925644,1.3816962534307864,656.8949233390888,31800,2539449.367136036,276.18627425547356,{"v":0.026464818763361084,"d":"2.65%"},36.78601353523866,0.99,{"v":0.026464818763361084,"d":"2.6%"},-1,{"$f":"IF(J103=1,F103/Data!$F$4,-1)","v":-1}]